BEGIN:VCALENDAR
VERSION:2.0
PRODID:-//Kino Pobjeda Metković - ECPv4.6.8//NONSGML v1.0//EN
CALSCALE:GREGORIAN
METHOD:PUBLISH
X-WR-CALNAME:Kino Pobjeda Metković
X-ORIGINAL-URL:http://www.kinopobjeda.hr
X-WR-CALDESC:Events for Kino Pobjeda Metković
BEGIN:VEVENT
DTSTART;TZID=UTC+1:20221229T193000
DTEND;TZID=UTC+1:20221229T211000
DTSTAMP:20260420T050043
CREATED:20221227T115221Z
LAST-MODIFIED:20221227T115221Z
UID:4632-1672342200-1672348200@www.kinopobjeda.hr
SUMMARY:Vjenčanje za umrijeti
DESCRIPTION:\nU Kinu ‘Pobjeda’ Metković u četvrtak\, 29. prosinca u 19:30 na rasporedu je romantična komedija ‘Vjenčanje za umrijeti’\, a u glavnim ulogama su Jennifer Lopez i Josh Duhamel. \n“Dok nas smrt ne rastavi” poprima potpuno novo značenje u ovoj urnebesnoj avanturi punoj adrenalina. Darcy (Jennifer Lopez) i Tom (Josh Duhamel) okupljaju svoje ljupke\, ali vrlo tvrdoglave obitelji za vjenčanje na udaljenoj destinaciji. Odnosi među njima nisu baš sjajni. Iako to nije bila dovoljna prijetnja slavlju\, iznenada se svi zajedno nađu u životnoj opasnosti kada je cijela ekipa s vjenčanja oteta za taoce. Darcy i Tom moraju spasiti svoje voljene – ako se prije toga međusobno ne poubijaju… \n  \n
URL:http://www.kinopobjeda.hr/raspored/vjencanje-za-umrijeti/
CATEGORIES:romantična komedija
END:VEVENT
END:VCALENDAR