BEGIN:VCALENDAR
VERSION:2.0
PRODID:-//Kino Pobjeda Metković - ECPv4.6.8//NONSGML v1.0//EN
CALSCALE:GREGORIAN
METHOD:PUBLISH
X-WR-CALNAME:Kino Pobjeda Metković
X-ORIGINAL-URL:http://www.kinopobjeda.hr
X-WR-CALDESC:Events for Kino Pobjeda Metković
BEGIN:VEVENT
DTSTART;TZID=UTC+1:20230923T173000
DTEND;TZID=UTC+1:20230923T185400
DTSTAMP:20260419T160907
CREATED:20230915T085543Z
LAST-MODIFIED:20230915T085543Z
UID:4988-1695490200-1695495240@www.kinopobjeda.hr
SUMMARY:Vrapčić Richard 2
DESCRIPTION:\nU Kinu ‘Pobjeda’ Metković u subotu\, 23. rujna s početkom u 17:30 na rasporedu je animirani film ‘Vrapčić Richard 2’\, sinkroniziran na hrvatski jezik.\nUživajući u zimovanju na Velikom jezeru u sjevernoj Africi\, Richard saznaje da mu ovaj put neće biti povjerena tako časna i odgovorna misija da vodi let jata roda kući na sjever. Ne želeći se s time pomiriti\, bježi na samostalno putovanje puno opasnosti i avantura. Na putu\, Richard će se morati susresti s jatom vrabaca u nevolji koje će uhvatiti zle ptice marabu predvođene pohlepnim paunom Zamanom. Da bi stekle slobodu\, ptice će se morati ujediniti u prijateljski tim\, pokazati hrabrost i domišljatost kako bi riješile zagonetku i pronašle tajanstveno blago s draguljima. \n  \n
URL:http://www.kinopobjeda.hr/raspored/vrapcic-richard-2/
CATEGORIES:animirani,sinkronizirano
END:VEVENT
END:VCALENDAR