BEGIN:VCALENDAR
VERSION:2.0
PRODID:-//Kino Pobjeda Metković - ECPv4.6.8//NONSGML v1.0//EN
CALSCALE:GREGORIAN
METHOD:PUBLISH
X-WR-CALNAME:Kino Pobjeda Metković
X-ORIGINAL-URL:http://www.kinopobjeda.hr
X-WR-CALDESC:Events for Kino Pobjeda Metković
BEGIN:VEVENT
DTSTART;TZID=UTC+1:20230317T193000
DTEND;TZID=UTC+1:20230317T213300
DTSTAMP:20260419T215150
CREATED:20230316T100819Z
LAST-MODIFIED:20230316T100819Z
UID:4768-1679081400-1679088780@www.kinopobjeda.hr
SUMMARY:Vrisak 6
DESCRIPTION:\nU Kinu ‘Pobjeda’ Metković u petak\, 17. ožujka s početkom u 19:30 na rasporedu je horor ‘Vrisak 6’.\nNakon ponovnih ubojstava Ghostfacea četvero preživjelih napušta Woodsboro i započinje novo poglavlje u New Yorku. \nU najbrutalnijem filmu kultnog horor serijala glumačku postavu predvode Jenna Ortega iz serije Wednesday\, Melissa Barrera\, Courtney Cox\, Mason Gooding\, Jasmin Savoy Brown i Hayden Panettiere. \n  \n
URL:http://www.kinopobjeda.hr/raspored/vrisak-6/
CATEGORIES:15,horor,misterija,triler
END:VEVENT
END:VCALENDAR