BEGIN:VCALENDAR
VERSION:2.0
PRODID:-//Kino Pobjeda Metković - ECPv4.6.8//NONSGML v1.0//EN
CALSCALE:GREGORIAN
METHOD:PUBLISH
X-WR-CALNAME:Kino Pobjeda Metković
X-ORIGINAL-URL:http://www.kinopobjeda.hr
X-WR-CALDESC:Events for Kino Pobjeda Metković
BEGIN:VEVENT
DTSTART;TZID=UTC+1:20220121T193000
DTEND;TZID=UTC+1:20220121T212400
DTSTAMP:20260420T162747
CREATED:20220118T131233Z
LAST-MODIFIED:20220118T131233Z
UID:4227-1642793400-1642800240@www.kinopobjeda.hr
SUMMARY:Vrisak
DESCRIPTION:\nU Kinu ‘Pobjeda’ Metković u petak\, 21. siječnja u 19:30 na rasporedu je horor ‘Vrisak’. Kultni horor koji smo obožavali u 90-tima vraća se na filmska platna. Nakon što je niz brutalnih ubojstava šokirao mirni gradić Woodsboro\, ubojica s maskom „Ghostface“ ponovno počinje terorizirati skupinu tinejdžera kako bi oživio tajne iz smrtonosne prošlosti grada. Uz brojnu mladu ekipu\, svoje će uloge u petom nastavku reprizirati Neve Campbell\, Courteney Cox i David Arquette te Marley Shelton koju smo prvi put gledali u Vrisku 4. \n  \n
URL:http://www.kinopobjeda.hr/raspored/vrisak/
CATEGORIES:15,horor
END:VEVENT
END:VCALENDAR