BEGIN:VCALENDAR
VERSION:2.0
PRODID:-//Kino Pobjeda Metković - ECPv4.6.8//NONSGML v1.0//EN
CALSCALE:GREGORIAN
METHOD:PUBLISH
X-WR-CALNAME:Kino Pobjeda Metković
X-ORIGINAL-URL:http://www.kinopobjeda.hr
X-WR-CALDESC:Events for Kino Pobjeda Metković
BEGIN:VEVENT
DTSTART;TZID=UTC+1:20221105T193000
DTEND;TZID=UTC+1:20221105T211400
DTSTAMP:20260419T183806
CREATED:20221102T130429Z
LAST-MODIFIED:20221102T130429Z
UID:4569-1667676600-1667682840@www.kinopobjeda.hr
SUMMARY:Vruća linija
DESCRIPTION:\nU Kinu ‘Pobjeda’ Metković u subotu\, 5. studenoga u 19:30 na rasporedu je film ‘Vruća linija’ – napeti triler sa legendarnim Melom Gibsonom u glavnoj ulozi. \nPosljednjih 25 godina\, Elvis je davao savjete onima koji su ga zvali uživo u njegov poznati noćni talk show. On je jedan od posljednjih legendarnih radijskih voditelja. Izbjegava društvene mreže koje smatra beskorisnima\, radi sve po svome i ignorira znakove upozorenja svog šefa koji vidi kako gledanost njegove emisije pada. Probleme slušatelja rješava svojom legendarnim glasom i britkim odgovorima. Ima mišljenje o svemu i upušta se u bilo koju vrstu rasprave. \nJedne noći prima dramatičan poziv koji bi mu mogao uništiti karijeru\, obitelj i cijeli život. \n  \n
URL:http://www.kinopobjeda.hr/raspored/vruca-linija/
CATEGORIES:15,triler
END:VEVENT
END:VCALENDAR