BEGIN:VCALENDAR
VERSION:2.0
PRODID:-//Kino Pobjeda Metković - ECPv4.6.8//NONSGML v1.0//EN
CALSCALE:GREGORIAN
METHOD:PUBLISH
X-WR-CALNAME:Kino Pobjeda Metković
X-ORIGINAL-URL:http://www.kinopobjeda.hr
X-WR-CALDESC:Events for Kino Pobjeda Metković
BEGIN:VEVENT
DTSTART;TZID=UTC+1:20201227T193000
DTEND;TZID=UTC+1:20201227T220000
DTSTAMP:20260421T075819
CREATED:20201221T114828Z
LAST-MODIFIED:20201221T114828Z
UID:3566-1609097400-1609106400@www.kinopobjeda.hr
SUMMARY:Wonder Woman 1984
DESCRIPTION:\n  \nU Kinu „Pobjeda“ Metković u nedjelju\, 27. prosinca u 19:30 održat će se projekcija filma „Wonder Woman 1984“.\nZa razliku od prvog filma čija je radnja smještena u vrijeme Prvog svjetskog rata\, nastavak priče o Diani Prince smješten je\, kako i naslov kaže\, u osamdesete godine prošlog stoljeća. \nOvaj film nije napravljen da se čini kao nastavak\, zato je ovo i potpuno novo utjelovljenje Wonder Woman. \n  \n  \n  \n
URL:http://www.kinopobjeda.hr/raspored/wonder-woman-1984/
CATEGORIES:akcija,avantura
END:VEVENT
END:VCALENDAR