BEGIN:VCALENDAR
VERSION:2.0
PRODID:-//Kino Pobjeda Metković - ECPv4.6.8//NONSGML v1.0//EN
CALSCALE:GREGORIAN
METHOD:PUBLISH
X-WR-CALNAME:Kino Pobjeda Metković
X-ORIGINAL-URL:http://www.kinopobjeda.hr
X-WR-CALDESC:Events for Kino Pobjeda Metković
BEGIN:VEVENT
DTSTART;TZID=UTC+1:20170610T203000
DTEND;TZID=UTC+1:20170610T230000
DTSTAMP:20260423T201055
CREATED:20170607T103907Z
LAST-MODIFIED:20170607T103907Z
UID:1481-1497126600-1497135600@www.kinopobjeda.hr
SUMMARY:WONDER WOMAN
DESCRIPTION:\nWONDER WOMAN\nIZVORNO IME: Wonder Woman\nREDATELJ: Patty Jenkins  |  ŽANR: Akcijski\, avanturaULOGE: Gal Gadot\, Robin Wright\, Chris Pine \nTRAJANJE FILMA: 141 minuta  |  GODINA: 2017  |  DRŽAVA: SAD  |\nDATUM PRIKAZIVANJA: 10.06. | 20\,30 \nWonder Woman je najpopularniji ženski lik u američkom stripu. Njeno prvo pojavljivanje je bilo u stripu All Star Comics u prosincu 1941. godine.\nPrije nego je postala Wonder Woman\, bila je Diana\, princeza Amazonki\, obučena da bude nepobjediva ratnica. Odrasla na zaštićenom rajskom otoku Themyscira\, na kojem žive samo žene. Međutim\, kada se američki pilot sruši na njihovu obalu i ispriča priču o masivnom sukobu u vanjskom svijetu\, Diana napušta svoj dom\, uvjerena da može zaustaviti sukob. U borbi protiv muškaraca u ratu kako bi zaustavila sve sukobe\, Diana će otkriti svoju najveću snagu…i svoju sudbinu. \n\n			\n				\n			\n			\n				\n			\n			\n				\n			\n			\n				\n			\n		\n\n
URL:http://www.kinopobjeda.hr/raspored/wonder-woman/
CATEGORIES:akcija,avantura
END:VEVENT
END:VCALENDAR