BEGIN:VCALENDAR
VERSION:2.0
PRODID:-//Kino Pobjeda Metković - ECPv4.6.8//NONSGML v1.0//EN
CALSCALE:GREGORIAN
METHOD:PUBLISH
X-WR-CALNAME:Kino Pobjeda Metković
X-ORIGINAL-URL:http://www.kinopobjeda.hr
X-WR-CALDESC:Events for Kino Pobjeda Metković
BEGIN:VEVENT
DTSTART;TZID=UTC+1:20220423T173000
DTEND;TZID=UTC+1:20220423T190100
DTSTAMP:20260420T122913
CREATED:20220419T083830Z
LAST-MODIFIED:20220419T084515Z
UID:4363-1650735000-1650740460@www.kinopobjeda.hr
SUMMARY:Zecko Koš i tajna mrkog Hrčka
DESCRIPTION:\nU Kinu ‘Pobjeda’ Metković u subotu\, 23. travnja s početkom u 17:30 na rasporedu je animirani film ‘Zecko Koš i tajna mrkog Hrčka’\, sinkroniziran na hrvatski jezik. Zabavna je to avantura za cijelu obitelj koja donosi snažnu\, univerzalnu poruku o toleranciji i važnosti prihvaćanja razlika – vlastitih i tuđih.\nSmješten u svijet bujne fantazije\, film prati avanture Zecka Koša\, mladog neobičnog superjunaka kojeg je posvojio kralj Peter\, poznati pustolov. U želji da se uklopi i osjeća voljenim unatoč svojoj različitosti\, Zecko Koš je opsjednut avanturama bez obzira na svoju nespretnost. Kada najveći zločinac Kraljevstva – njegov vlastiti ujak – pobjegne iz zatvora i zaprijeti da će svrgnuti njegovog oca\, Zecko Koš kreće u epsku utrku kako bi ga zaustavio. Njegova potraga za Hrčkom tame postaje prava avantura kroz koju Zecko postupno uči otvoriti se drugima i pomiriti se sa svojom različitošću\, zahvaljujući prijateljima koje bismo svi voljeli imati – kornjači Abe i tvoru Meg. \n  \n
URL:http://www.kinopobjeda.hr/raspored/zecko-kos-i-tajna-mrkog-hrcka/
CATEGORIES:animirani,sinkronizirano
END:VEVENT
END:VCALENDAR