BEGIN:VCALENDAR
VERSION:2.0
PRODID:-//Kino Pobjeda Metković - ECPv4.6.8//NONSGML v1.0//EN
CALSCALE:GREGORIAN
METHOD:PUBLISH
X-WR-CALNAME:Kino Pobjeda Metković
X-ORIGINAL-URL:http://www.kinopobjeda.hr
X-WR-CALDESC:Events for Kino Pobjeda Metković
BEGIN:VEVENT
DTSTART;TZID=UTC+1:20231201T170000
DTEND;TZID=UTC+1:20231201T183200
DTSTAMP:20260419T124923
CREATED:20231127T105037Z
LAST-MODIFIED:20231127T105037Z
UID:5151-1701450000-1701455520@www.kinopobjeda.hr
SUMMARY:Želja
DESCRIPTION:\nU Kinu ‘Pobjeda’ Metković u petak\, 1. prosinca s početkom u 17 sati na rasporedu je projekcija animiranoga filma ‘Želja’ sinkroniziranoga na hrvatski jezik. \nAsha\, nadasve pametna djevojčica\, izriče želju tako moćnu da je ispunjava kozmička sila – mala kuglica beskrajne energije zvana Zvijezda. Asha i Zvijezda se zajedno suočavaju s najmoćnijim neprijateljem – Kraljem Magnificom. One zajedno djeluju kako bi spasile svijet i dokazale kako su čuda itekako moguća ako se volja hrabrog čovjeka poveže s čarolijom zvijezda. \n  \n
URL:http://www.kinopobjeda.hr/raspored/zelja/
CATEGORIES:animirani,sinkronizirano
END:VEVENT
END:VCALENDAR