BEGIN:VCALENDAR
VERSION:2.0
PRODID:-//Kino Pobjeda Metković - ECPv4.6.8//NONSGML v1.0//EN
CALSCALE:GREGORIAN
METHOD:PUBLISH
X-WR-CALNAME:Kino Pobjeda Metković
X-ORIGINAL-URL:http://www.kinopobjeda.hr
X-WR-CALDESC:Events for Kino Pobjeda Metković
BEGIN:VEVENT
DTSTART;TZID=UTC+1:20200124T193000
DTEND;TZID=UTC+1:20200124T213000
DTSTAMP:20260422T063347
CREATED:20200122T091659Z
LAST-MODIFIED:20200122T091659Z
UID:3013-1579894200-1579901400@www.kinopobjeda.hr
SUMMARY:Zločesti dečki zauvijek
DESCRIPTION:\n„Zločesti dečki zauvijek“ \nIZVORNO IME: Bad Boys for Life \nREDATELJ: Adil El Arbi & Bilall Fallah | ŽANR: akcija \nULOGE: Will Smith\, Martin Lawrence\, Alexander Ludwig\, Vanessa Hudgens \nZločesti dečki Mike Lowrey (Will Smith) i Marcus Burnett (Martin Lawrence) ponovno su zajedno u još jednoj ludoj vožnji u dugo očekivanom nastavku „Zločesti dečki zauvijek”. Ovaj put naši zločesti dečki jesu nešto stariji ali su jednako ludi i opaki. Iako Marcus svom dugogodišnjem partneru Mikeu najavljuje skorašnji odlazak u mirovinu\, jer vrijeme mu je\, Mike ga nagovora na još jednu ludu misiju. \n  \n \n
URL:http://www.kinopobjeda.hr/raspored/zlocesti-decki-zauvijek/
CATEGORIES:akcija
END:VEVENT
END:VCALENDAR